BEGIN:VCALENDAR
VERSION:2.0
PRODID:-//CAB HAINAUT - ECPv6.15.20//NONSGML v1.0//EN
CALSCALE:GREGORIAN
METHOD:PUBLISH
X-ORIGINAL-URL:https://cabhainaut.be
X-WR-CALDESC:Évènements pour CAB HAINAUT
REFRESH-INTERVAL;VALUE=DURATION:PT1H
X-Robots-Tag:noindex
X-PUBLISHED-TTL:PT1H
BEGIN:VTIMEZONE
TZID:Europe/Paris
BEGIN:DAYLIGHT
TZOFFSETFROM:+0100
TZOFFSETTO:+0200
TZNAME:CEST
DTSTART:20240331T010000
END:DAYLIGHT
BEGIN:STANDARD
TZOFFSETFROM:+0200
TZOFFSETTO:+0100
TZNAME:CET
DTSTART:20241027T010000
END:STANDARD
BEGIN:DAYLIGHT
TZOFFSETFROM:+0100
TZOFFSETTO:+0200
TZNAME:CEST
DTSTART:20250330T010000
END:DAYLIGHT
BEGIN:STANDARD
TZOFFSETFROM:+0200
TZOFFSETTO:+0100
TZNAME:CET
DTSTART:20251026T010000
END:STANDARD
BEGIN:DAYLIGHT
TZOFFSETFROM:+0100
TZOFFSETTO:+0200
TZNAME:CEST
DTSTART:20260329T010000
END:DAYLIGHT
BEGIN:STANDARD
TZOFFSETFROM:+0200
TZOFFSETTO:+0100
TZNAME:CET
DTSTART:20261025T010000
END:STANDARD
BEGIN:DAYLIGHT
TZOFFSETFROM:+0100
TZOFFSETTO:+0200
TZNAME:CEST
DTSTART:20270328T010000
END:DAYLIGHT
BEGIN:STANDARD
TZOFFSETFROM:+0200
TZOFFSETTO:+0100
TZNAME:CET
DTSTART:20271031T010000
END:STANDARD
END:VTIMEZONE
BEGIN:VEVENT
DTSTART;TZID=Europe/Paris:20260412T100000
DTEND;TZID=Europe/Paris:20260412T150000
DTSTAMP:20260419T152019
CREATED:20260320T154345Z
LAST-MODIFIED:20260320T154345Z
UID:1549-1775988000-1776006000@cabhainaut.be
SUMMARY:Randonnée - 15km - Gerpinnes
DESCRIPTION:Randonnée 15km\no Quand : 12 avril à 10h.\no Où : à la découverte de Gerpinnes et ses environs\no Renseignements et inscription : Catherine BOITTE – 0477/313468
URL:https://cabhainaut.be/event/randonnee-15km-gerpinnes/
END:VEVENT
BEGIN:VEVENT
DTSTART;TZID=Europe/Paris:20260404T100000
DTEND;TZID=Europe/Paris:20260404T163000
DTSTAMP:20260419T152019
CREATED:20260320T153942Z
LAST-MODIFIED:20260402T145850Z
UID:1547-1775296800-1775320200@cabhainaut.be
SUMMARY:Sortie escalade\, Revue des manip'
DESCRIPTION:o Quand : Samedi 4 avril 2026 de 10h00 à 16h30\no Où : Spontin ou Landelies\no Pour faire quoi : Escalade pour se faire plaisir et pratiquer les manipulations d’escalade en falaise. (SE)\no Pour qui : membres du CAB\no Matériel à prendre : votre propre matériel ou fourni à la demande\no Réservation obligatoire : Hubert Pourtois 0474/64 24 20.
URL:https://cabhainaut.be/event/sortie-escalade-revue-des-manip/
LOCATION:Landelies\, Belgique
CATEGORIES:Rassemblement Escalade
END:VEVENT
BEGIN:VEVENT
DTSTART;TZID=Europe/Paris:20260329T100000
DTEND;TZID=Europe/Paris:20260329T163000
DTSTAMP:20260419T152019
CREATED:20260201T113835Z
LAST-MODIFIED:20260320T162311Z
UID:1482-1774778400-1774801800@cabhainaut.be
SUMMARY:Sortie Escalade - Corphalie
DESCRIPTION:29/03 – corphalie\nQuand : 10h à 17h\nSans encadrement\nMatériel mis à disposition\nDébutant bienvenu (place limitée)\nInscription obligatoire pour le 25/3 auprès de Luc Chevalier : 0486 25 19 39
URL:https://cabhainaut.be/event/sortie-escalade-grand-malade/
LOCATION:Rocher des grands malades\, Namur
END:VEVENT
BEGIN:VEVENT
DTSTART;TZID=Europe/Paris:20260328T100000
DTEND;TZID=Europe/Paris:20260328T160000
DTSTAMP:20260419T152019
CREATED:20260127T184423Z
LAST-MODIFIED:20260227T090554Z
UID:1476-1774692000-1774713600@cabhainaut.be
SUMMARY:Sortie à Yvoir
DESCRIPTION:quand : samedi 28 mars : 10h-16h\nquoi : escalade pour grimpeurs autonomes et débutants\noù : Yvoir\nprix: gratuit\n\nSi vous ne possédez pas votre équipement personnel (casque\, baudrier\, longe\, corde\, dégaines\, mousquetons\,…). Veuillez le faire savoir lors de l’inscription.\ninscription au plus tard le vendredi 20 mars au 0485/79 63 82 en mentionnant le matériel dont vous auriez besoin. \n\n\nannulation : en fonction de la météo\, l’activité peut-être annulée. Un message sera alors envoyé.\nremarque : accueil au parking devant le barrage. Il n’y a pas d’obligation de grimper en tête. Les débutants grimperont en moulinette. Ce n’est pas un stage.
URL:https://cabhainaut.be/event/sortie-a-yvoir/
LOCATION:Yvoir\, Belgium
ATTACH;FMTTYPE=image/jpeg:https://cabhainaut.be/wp-content/uploads/2026/01/cabh_sortie_250328.jpg
ORGANIZER;CN="S%C3%A9lim":MAILTO:selimdatoussaid@gmail.com
END:VEVENT
BEGIN:VEVENT
DTSTART;TZID=Europe/Paris:20260314T100000
DTEND;TZID=Europe/Paris:20260314T160000
DTSTAMP:20260419T152019
CREATED:20260127T184127Z
LAST-MODIFIED:20260227T090453Z
UID:1473-1773482400-1773504000@cabhainaut.be
SUMMARY:Sortie à Beez
DESCRIPTION:quand : samedi 14 mars : 10h-16h\nquoi : escalade pour grimpeurs autonomes\noù : Beez\nprix: gratuit\ninscription au plus tard le vendredi 13 mars au 0485/79 63 82\nannulation : en fonction de la météo\, l’activité peut-être annulée. Un message sera alors envoyé.\nremarque : accueil au parking devant la marina de Beez\, posséder son équipement personnel. Les cordées seront constituées sur place. Il n’y a pas d’obligation de grimper en tête. Ce n’est pas un stage.
URL:https://cabhainaut.be/event/sortie-a-beez/
LOCATION:Beez\, Belgique
ATTACH;FMTTYPE=image/jpeg:https://cabhainaut.be/wp-content/uploads/2026/01/cabh_sortie_250314.jpg
ORGANIZER;CN="S%C3%A9lim":MAILTO:selimdatoussaid@gmail.com
END:VEVENT
BEGIN:VEVENT
DTSTART;TZID=Europe/Paris:20260228T140000
DTEND;TZID=Europe/Paris:20260228T170000
DTSTAMP:20260419T152019
CREATED:20260201T113621Z
LAST-MODIFIED:20260201T113621Z
UID:1480-1772287200-1772298000@cabhainaut.be
SUMMARY:Parcours Montagne à Beez
DESCRIPTION:14h00 au parking de la Marina de Beez  -> 17h00\nInscription au 0477788013\nMatériel : baudrier – matériel rappel – longe via Ferrata – collation à mettre dans un petit sac à dos\n(Si vous ne le possédez pas tout le matériel\, prévenir avant : possibilité de vous le fournir)\nEn cas de mauvais temps\, reporté au lendemain 1er Mars.
URL:https://cabhainaut.be/event/parcours-montagne-a-beez/
LOCATION:Beez\, Belgique
ORGANIZER;CN="Etienne":MAILTO:Etienne.delmee@skynet.be
END:VEVENT
BEGIN:VEVENT
DTSTART;VALUE=DATE:20260207
DTEND;VALUE=DATE:20260209
DTSTAMP:20260419T152019
CREATED:20260127T183648Z
LAST-MODIFIED:20260127T183648Z
UID:1469-1770422400-1770595199@cabhainaut.be
SUMMARY:Entretien du site de Landelies
DESCRIPTION:https://www.clubalpin.be/entretiens
URL:https://cabhainaut.be/event/entretien-du-site-de-landelies/
LOCATION:Landelies\, Belgique
ATTACH;FMTTYPE=image/jpeg:https://cabhainaut.be/wp-content/uploads/2026/01/Entretien-CAB.jpg
END:VEVENT
BEGIN:VEVENT
DTSTART;TZID=Europe/Paris:20260131T180000
DTEND;TZID=Europe/Paris:20260131T220000
DTSTAMP:20260419T152019
CREATED:20251201T080512Z
LAST-MODIFIED:20260125T185716Z
UID:1442-1769882400-1769896800@cabhainaut.be
SUMMARY:Assemblée Générale du CAB Hainaut
DESCRIPTION:Infos pratiques :\n\n Samedi 31 janvier\n Rockerill – Rue de la Providence 136\, 6030 Charleroi\n\n Programme\n\n– 18h00 — Accueil et visite des forges du Rockerill\n– 18h30 — Assemblée Générale\n– 19h30 — Pizzas\n– 20h15 — Projections de deux films:\n   – Resistance Climbing — un film engagé mêlant escalade et valeurs humaines\n\n   – The Lion Ridge — une aventure verticale intense et inspirante\n\n\nPour faciliter l’organisation merci de vous inscrire via le formulaire :\nhttps://forms.gle/BiUQYVLLfcpmpBak8
URL:https://cabhainaut.be/event/assemblee-generale-du-cab-hainaut/
LOCATION:Rockerill\, Rue de la Providence 136\, Marchienne\, 6030
ATTACH;FMTTYPE=application/pdf:https://cabhainaut.be/wp-content/uploads/2025/12/aff-assembee-generale-cabh.pdf
END:VEVENT
BEGIN:VEVENT
DTSTART;TZID=Europe/Paris:20260103T110000
DTEND;TZID=Europe/Paris:20260103T150000
DTSTAMP:20260419T152019
CREATED:20251201T075259Z
LAST-MODIFIED:20251225T111001Z
UID:1440-1767438000-1767452400@cabhainaut.be
SUMMARY:2026 à Landelies
DESCRIPTION:Quoi? sortie en falaise non-encadrée.Qui ? accessible à tout les membres CAB (débutant ou confirmé)Où ? rocher de LandeliesPourquoi ? se décrasser après les fêtes\, débuter l’année sur une note sportive\, revoir les copains\,…
URL:https://cabhainaut.be/event/escalade-a-landelies/
LOCATION:Landelies\, Belgique
CATEGORIES:Famille,Rassemblement Escalade,Rassemblement Via Ferrata
ATTACH;FMTTYPE=image/jpeg:https://cabhainaut.be/wp-content/uploads/2025/12/Outlook-nx2zsdym.jpg
ORGANIZER;CN="Simon":MAILTO:sinnaevesimon@hotmail.com
END:VEVENT
BEGIN:VEVENT
DTSTART;TZID=Europe/Paris:20251214T130000
DTEND;TZID=Europe/Paris:20251214T180000
DTSTAMP:20260419T152019
CREATED:20251201T074950Z
LAST-MODIFIED:20251201T075034Z
UID:1435-1765717200-1765735200@cabhainaut.be
SUMMARY:Escalade à Doische
DESCRIPTION:1000M2 de voies allant du niveau 3 à 8.\n15 mètres de hauteur entièrement équipés\nParcours via ferrata à partir de 8 ans. \nTarif : 10€ \nBar-restauration (soupe aux potirons) \nInscription obligatoire : chez Michaël Sacchi\nGSM : 0475/98.57.05 ou udini022@gmail.com\nOrganisation du Club Alpin Hainaut
URL:https://cabhainaut.be/event/escalade-a-doische/
LOCATION:Doische – Altitude Sport\, Rue de l'Emprunt 6a\, Doische\, 5680
CATEGORIES:Famille,Rassemblement Escalade
ATTACH;FMTTYPE=image/jpeg:https://cabhainaut.be/wp-content/uploads/2025/12/doische-copie-scaled.jpg
ORGANIZER;CN="Micha%C3%ABl Sacchi":MAILTO:udini022@gmail.com
END:VEVENT
BEGIN:VEVENT
DTSTART;TZID=Europe/Paris:20251116T093000
DTEND;TZID=Europe/Paris:20251116T163000
DTSTAMP:20260419T152019
CREATED:20250824T172038Z
LAST-MODIFIED:20250824T172038Z
UID:1403-1763285400-1763310600@cabhainaut.be
SUMMARY:La montée du Bocq
DESCRIPTION:Dimanche 16 novembre 2025 – « La montée du Bocq » \nEscalade pour tous – Débutant bienvenu (nombre limité) \nNon encadrée \nLieu : rocher de Durnal \nHeure: 9h30 à 16h30 \nRenseignements et inscription auprès de Luc Chevalier au 0486 25 19 39 ou au 081 610 595 – avant le 12 novembre 2025
URL:https://cabhainaut.be/event/la-montee-du-bocq/
LOCATION:Durnal\, Durnal
CATEGORIES:Rassemblement Escalade
END:VEVENT
END:VCALENDAR