BEGIN:VCALENDAR
VERSION:2.0
PRODID:-//CAB HAINAUT - ECPv6.15.20//NONSGML v1.0//EN
CALSCALE:GREGORIAN
METHOD:PUBLISH
X-WR-CALNAME:CAB HAINAUT
X-ORIGINAL-URL:https://cabhainaut.be
X-WR-CALDESC:Évènements pour CAB HAINAUT
REFRESH-INTERVAL;VALUE=DURATION:PT1H
X-Robots-Tag:noindex
X-PUBLISHED-TTL:PT1H
BEGIN:VTIMEZONE
TZID:Europe/Paris
BEGIN:DAYLIGHT
TZOFFSETFROM:+0100
TZOFFSETTO:+0200
TZNAME:CEST
DTSTART:20250330T010000
END:DAYLIGHT
BEGIN:STANDARD
TZOFFSETFROM:+0200
TZOFFSETTO:+0100
TZNAME:CET
DTSTART:20251026T010000
END:STANDARD
BEGIN:DAYLIGHT
TZOFFSETFROM:+0100
TZOFFSETTO:+0200
TZNAME:CEST
DTSTART:20260329T010000
END:DAYLIGHT
BEGIN:STANDARD
TZOFFSETFROM:+0200
TZOFFSETTO:+0100
TZNAME:CET
DTSTART:20261025T010000
END:STANDARD
BEGIN:DAYLIGHT
TZOFFSETFROM:+0100
TZOFFSETTO:+0200
TZNAME:CEST
DTSTART:20270328T010000
END:DAYLIGHT
BEGIN:STANDARD
TZOFFSETFROM:+0200
TZOFFSETTO:+0100
TZNAME:CET
DTSTART:20271031T010000
END:STANDARD
END:VTIMEZONE
BEGIN:VEVENT
DTSTART;TZID=Europe/Paris:20260606T100000
DTEND;TZID=Europe/Paris:20260606T170000
DTSTAMP:20260419T184034
CREATED:20251201T080647Z
LAST-MODIFIED:20260417T100803Z
UID:1446-1780740000-1780765200@cabhainaut.be
SUMMARY:Portes Ouvertes du CAB Hainaut
DESCRIPTION:Le samedi 6 juin\, de 10h à 17h\, le CAB Hainaut organise sa journée annuelle de portes ouvertes.\n\n \n\nVenez nous rejoindre aux rochers de Landelies\, Rue Try des Gaux à Landelies (ensuite suivre la rue blanc caillou)\, pour y découvrir le monde de l’escalade. Vous pourrez vous tester sur des voies de tous niveaux\, tenter la via ferrata\, participer à une rando\, et même à une séance de yoga… ou simplement prendre un verre au bar. Ouvert à tous\, débutants et grimpeurs confirmés\, enfants bienvenus. Pas besoin d’être membre du Club Alpin… et c’est gratuit.\n\n \n\nInfos: secretariat.cabhainaut@gmail.com
URL:https://cabhainaut.be/event/portes-ouvertes-du-cab-hainaut/
LOCATION:Landelies\, Belgique
ORGANIZER;CN="CAB Hainaut":MAILTO:secretariat.cabhainaut@gmail.com
END:VEVENT
END:VCALENDAR