BEGIN:VCALENDAR
VERSION:2.0
PRODID:-//CAB HAINAUT - ECPv6.15.20//NONSGML v1.0//EN
CALSCALE:GREGORIAN
METHOD:PUBLISH
X-ORIGINAL-URL:https://cabhainaut.be
X-WR-CALDESC:Évènements pour CAB HAINAUT
REFRESH-INTERVAL;VALUE=DURATION:PT1H
X-Robots-Tag:noindex
X-PUBLISHED-TTL:PT1H
BEGIN:VTIMEZONE
TZID:Europe/Paris
BEGIN:DAYLIGHT
TZOFFSETFROM:+0100
TZOFFSETTO:+0200
TZNAME:CEST
DTSTART:20250330T010000
END:DAYLIGHT
BEGIN:STANDARD
TZOFFSETFROM:+0200
TZOFFSETTO:+0100
TZNAME:CET
DTSTART:20251026T010000
END:STANDARD
BEGIN:DAYLIGHT
TZOFFSETFROM:+0100
TZOFFSETTO:+0200
TZNAME:CEST
DTSTART:20260329T010000
END:DAYLIGHT
BEGIN:STANDARD
TZOFFSETFROM:+0200
TZOFFSETTO:+0100
TZNAME:CET
DTSTART:20261025T010000
END:STANDARD
BEGIN:DAYLIGHT
TZOFFSETFROM:+0100
TZOFFSETTO:+0200
TZNAME:CEST
DTSTART:20270328T010000
END:DAYLIGHT
BEGIN:STANDARD
TZOFFSETFROM:+0200
TZOFFSETTO:+0100
TZNAME:CET
DTSTART:20271031T010000
END:STANDARD
END:VTIMEZONE
BEGIN:VEVENT
DTSTART;TZID=Europe/Paris:20261115T100000
DTEND;TZID=Europe/Paris:20261115T170000
DTSTAMP:20260420T013318
CREATED:20260201T114109Z
LAST-MODIFIED:20260201T114109Z
UID:1486-1794736800-1794762000@cabhainaut.be
SUMMARY:Sortie Escalade - Durnal
DESCRIPTION:15/11- Durnal\n\n\nQuand : 10h à 17h\nSans encadrement\nMatériel mis à disposition\nDébutant bienvenu (place limitée)\nInscription obligatoire pour le 11/11 auprès de Luc Chevalier : 0486 25 19 39
URL:https://cabhainaut.be/event/sortie-escalade-durnal/
LOCATION:Durnal\, Durnal
END:VEVENT
END:VCALENDAR